Package: GSVA Version: 2.0.5 Command: /home/biocbuild/bbs-3.20-bioc/R/bin/R CMD check --install=check:GSVA.install-out.txt --library=/home/biocbuild/bbs-3.20-bioc/R/site-library --timings GSVA_2.0.5.tar.gz StartedAt: 2025-02-03 23:02:13 -0500 (Mon, 03 Feb 2025) EndedAt: 2025-02-03 23:13:30 -0500 (Mon, 03 Feb 2025) EllapsedTime: 676.9 seconds RetCode: 0 Status: OK CheckDir: GSVA.Rcheck Warnings: 0