Package: GSVA Version: 2.0.5 Command: /home/biocbuild/bbs-3.20-bioc/R/bin/R CMD INSTALL GSVA StartedAt: 2025-02-03 16:00:18 -0500 (Mon, 03 Feb 2025) EndedAt: 2025-02-03 16:01:00 -0500 (Mon, 03 Feb 2025) EllapsedTime: 42.7 seconds RetCode: 0 Status: OK