Package: GSVA Version: 2.0.5 Command: rm -rf GSVA.buildbin-libdir && mkdir GSVA.buildbin-libdir && F:\biocbuild\bbs-3.20-bioc\R\bin\R.exe CMD INSTALL --build --library=GSVA.buildbin-libdir GSVA_2.0.5.tar.gz StartedAt: 2025-02-04 08:40:05 -0500 (Tue, 04 Feb 2025) EndedAt: 2025-02-04 08:41:33 -0500 (Tue, 04 Feb 2025) EllapsedTime: 88.1 seconds RetCode: 0 Status: OK PackageFile: GSVA_2.0.5.zip PackageFileSize: 2.022 MiB