Package: GSVA Version: 2.0.5 Command: chmod a+r GSVA -R && F:\biocbuild\bbs-3.20-bioc\R\bin\R.exe CMD build --keep-empty-dirs --no-resave-data GSVA StartedAt: 2025-02-03 19:38:25 -0500 (Mon, 03 Feb 2025) EndedAt: 2025-02-03 19:41:46 -0500 (Mon, 03 Feb 2025) EllapsedTime: 201.7 seconds RetCode: 0 Status: OK PackageFile: GSVA_2.0.5.tar.gz PackageFileSize: 2.133 MiB