Package: GSVA Version: 2.0.5 Command: F:\biocbuild\bbs-3.20-bioc\R\bin\R.exe CMD INSTALL GSVA StartedAt: 2025-02-03 16:37:07 -0500 (Mon, 03 Feb 2025) EndedAt: 2025-02-03 16:38:12 -0500 (Mon, 03 Feb 2025) EllapsedTime: 64.5 seconds RetCode: 0 Status: OK