Package: GSgalgoR
Version: 1.16.0
Command: /Library/Frameworks/R.framework/Resources/bin/R CMD check --install=check:GSgalgoR.install-out.txt --library=/Library/Frameworks/R.framework/Resources/library --no-vignettes --timings GSgalgoR_1.16.0.tar.gz
StartedAt: 2024-11-09 04:06:50 -0500 (Sat, 09 Nov 2024)
EndedAt: 2024-11-09 04:11:28 -0500 (Sat, 09 Nov 2024)
EllapsedTime: 278.8 seconds
RetCode: 0
Status: OK
CheckDir: GSgalgoR.Rcheck
Warnings: 0