Package: GSgalgoR
Version: 1.16.0
Command: /Library/Frameworks/R.framework/Resources/bin/R CMD INSTALL GSgalgoR
StartedAt: 2024-11-08 15:37:36 -0500 (Fri, 08 Nov 2024)
EndedAt: 2024-11-08 15:37:37 -0500 (Fri, 08 Nov 2024)
EllapsedTime: 1.0 seconds
RetCode: 0
Status: OK