Package: GSgalgoR Version: 1.16.0 Command: /Library/Frameworks/R.framework/Resources/bin/R CMD build --keep-empty-dirs --no-resave-data GSgalgoR StartedAt: 2025-02-17 19:31:49 -0500 (Mon, 17 Feb 2025) EndedAt: 2025-02-17 19:34:21 -0500 (Mon, 17 Feb 2025) EllapsedTime: 152.7 seconds RetCode: 0 Status: OK PackageFile: GSgalgoR_1.16.0.tar.gz PackageFileSize: 2.736 <A href="http://en.wikipedia.org/wiki/MiB" target="_blank">MiB</A>