Package: GSgalgoR
Version: 1.15.0
Command: F:\biocbuild\bbs-3.20-bioc\R\bin\R.exe CMD check --no-multiarch --install=check:GSgalgoR.install-out.txt --library=F:\biocbuild\bbs-3.20-bioc\R\library --no-vignettes --timings GSgalgoR_1.15.0.tar.gz
StartedAt: 2024-06-10 03:39:19 -0400 (Mon, 10 Jun 2024)
EndedAt: 2024-06-10 03:46:16 -0400 (Mon, 10 Jun 2024)
EllapsedTime: 417.4 seconds
RetCode: 0
Status: OK
CheckDir: GSgalgoR.Rcheck
Warnings: 0