Package: GSgalgoR Version: 1.16.0 Command: F:\biocbuild\bbs-3.20-bioc\R\bin\R.exe CMD INSTALL GSgalgoR StartedAt: 2025-02-03 16:07:57 -0500 (Mon, 03 Feb 2025) EndedAt: 2025-02-03 16:08:13 -0500 (Mon, 03 Feb 2025) EllapsedTime: 16.3 seconds RetCode: 0 Status: OK