Package: GUIDEseq
Version: 1.36.0
Command: /home/biocbuild/R/R/bin/R CMD check --install=check:GUIDEseq.install-out.txt --library=/home/biocbuild/R/R/site-library --no-vignettes --timings GUIDEseq_1.36.0.tar.gz
StartedAt: 2024-11-20 08:37:43 -0000 (Wed, 20 Nov 2024)
EndedAt: 2024-11-20 08:48:06 -0000 (Wed, 20 Nov 2024)
EllapsedTime: 623.0 seconds
RetCode: 0
Status: OK
CheckDir: GUIDEseq.Rcheck
Warnings: 0