Package: GWAS.BAYES Version: 1.16.0 Command: /Library/Frameworks/R.framework/Resources/bin/R CMD build --keep-empty-dirs --no-resave-data GWAS.BAYES StartedAt: 2025-01-31 01:10:04 -0500 (Fri, 31 Jan 2025) EndedAt: 2025-01-31 01:14:10 -0500 (Fri, 31 Jan 2025) EllapsedTime: 245.9 seconds RetCode: 0 Status: OK PackageFile: GWAS.BAYES_1.16.0.tar.gz PackageFileSize: 1.347 MiB