Package: GWAS.BAYES Version: 1.16.0 Command: /home/biocbuild/bbs-3.20-bioc/R/bin/R CMD build --keep-empty-dirs --no-resave-data --md5 GWAS.BAYES StartedAt: 2025-01-30 17:34:49 -0500 (Thu, 30 Jan 2025) EndedAt: 2025-01-30 17:37:35 -0500 (Thu, 30 Jan 2025) EllapsedTime: 166.2 seconds RetCode: 0 Status: OK PackageFile: GWAS.BAYES_1.16.0.tar.gz PackageFileSize: 1.347 MiB