Package: GWAS.BAYES Version: 1.16.0 Command: chmod a+r GWAS.BAYES -R && F:\biocbuild\bbs-3.20-bioc\R\bin\R.exe CMD build --keep-empty-dirs --no-resave-data GWAS.BAYES StartedAt: 2025-01-30 19:24:15 -0500 (Thu, 30 Jan 2025) EndedAt: 2025-01-30 19:28:31 -0500 (Thu, 30 Jan 2025) EllapsedTime: 256.0 seconds RetCode: 0 Status: OK PackageFile: GWAS.BAYES_1.16.0.tar.gz PackageFileSize: 1.346 MiB