Package: GWAS.BAYES Version: 1.16.0 Command: /home/biocbuild/R/R/bin/R CMD build --keep-empty-dirs --no-resave-data GWAS.BAYES StartedAt: 2025-01-31 00:11:35 -0000 (Fri, 31 Jan 2025) EndedAt: 2025-01-31 00:15:27 -0000 (Fri, 31 Jan 2025) EllapsedTime: 232.2 seconds RetCode: 0 Status: OK PackageFile: GWAS.BAYES_1.16.0.tar.gz PackageFileSize: 1.394 MiB