Package: GWAS.BAYES Version: 1.16.0 Command: /home/biocbuild/R/R/bin/R CMD INSTALL GWAS.BAYES StartedAt: 2025-01-30 20:56:32 -0000 (Thu, 30 Jan 2025) EndedAt: 2025-01-30 20:56:39 -0000 (Thu, 30 Jan 2025) EllapsedTime: 7.1 seconds RetCode: 0 Status: OK