Package: GWASTools Version: 1.52.0 Command: /Library/Frameworks/R.framework/Resources/bin/R CMD build --keep-empty-dirs --no-resave-data GWASTools StartedAt: 2025-02-04 01:12:48 -0500 (Tue, 04 Feb 2025) EndedAt: 2025-02-04 01:13:57 -0500 (Tue, 04 Feb 2025) EllapsedTime: 68.5 seconds RetCode: 0 Status: OK PackageFile: GWASTools_1.52.0.tar.gz PackageFileSize: 1.937 MiB