Package: GWASTools Version: 1.52.0 Command: /Library/Frameworks/R.framework/Resources/bin/R CMD check --install=check:GWASTools.install-out.txt --library=/Library/Frameworks/R.framework/Resources/library --no-vignettes --timings GWASTools_1.52.0.tar.gz StartedAt: 2025-02-04 22:04:55 -0500 (Tue, 04 Feb 2025) EndedAt: 2025-02-04 22:09:58 -0500 (Tue, 04 Feb 2025) EllapsedTime: 302.4 seconds RetCode: 0 Status: OK CheckDir: GWASTools.Rcheck Warnings: 0