Package: GWASTools Version: 1.52.0 Command: rm -rf GWASTools.buildbin-libdir && mkdir GWASTools.buildbin-libdir && /Users/biocbuild/BBS/utils/build-universal.sh GWASTools_1.52.0.tar.gz /Library/Frameworks/R.framework/Resources/bin/R GWASTools.buildbin-libdir StartedAt: 2025-02-04 13:07:25 -0500 (Tue, 04 Feb 2025) EndedAt: 2025-02-04 13:08:38 -0500 (Tue, 04 Feb 2025) EllapsedTime: 73.3 seconds RetCode: 0 Status: OK PackageFile: GWASTools_1.52.0.tgz PackageFileSize: 3.103 MiB