Package: GWASTools Version: 1.52.0 Command: /Library/Frameworks/R.framework/Resources/bin/R CMD build --keep-empty-dirs --no-resave-data GWASTools StartedAt: 2025-02-03 19:29:43 -0500 (Mon, 03 Feb 2025) EndedAt: 2025-02-03 19:31:48 -0500 (Mon, 03 Feb 2025) EllapsedTime: 125.4 seconds RetCode: 0 Status: OK PackageFile: GWASTools_1.52.0.tar.gz PackageFileSize: 1.937 MiB