Package: GWASTools Version: 1.52.0 Command: /home/biocbuild/bbs-3.20-bioc/R/bin/R CMD build --keep-empty-dirs --no-resave-data --md5 GWASTools StartedAt: 2025-02-03 17:44:58 -0500 (Mon, 03 Feb 2025) EndedAt: 2025-02-03 17:45:46 -0500 (Mon, 03 Feb 2025) EllapsedTime: 48.1 seconds RetCode: 0 Status: OK PackageFile: GWASTools_1.52.0.tar.gz PackageFileSize: 1.944 MiB