Package: GWASTools Version: 1.52.0 Command: /home/biocbuild/bbs-3.20-bioc/R/bin/R CMD check --install=check:GWASTools.install-out.txt --library=/home/biocbuild/bbs-3.20-bioc/R/site-library --timings GWASTools_1.52.0.tar.gz StartedAt: 2025-02-03 23:03:42 -0500 (Mon, 03 Feb 2025) EndedAt: 2025-02-03 23:08:46 -0500 (Mon, 03 Feb 2025) EllapsedTime: 304.3 seconds RetCode: 0 Status: OK CheckDir: GWASTools.Rcheck Warnings: 0