Package: GWENA Version: 1.16.0 Command: rm -rf GWENA.buildbin-libdir && mkdir GWENA.buildbin-libdir && /Users/biocbuild/BBS/utils/build-universal.sh GWENA_1.16.0.tar.gz /Library/Frameworks/R.framework/Resources/bin/R GWENA.buildbin-libdir StartedAt: 2025-02-04 13:07:36 -0500 (Tue, 04 Feb 2025) EndedAt: 2025-02-04 13:09:01 -0500 (Tue, 04 Feb 2025) EllapsedTime: 85.3 seconds RetCode: 0 Status: OK PackageFile: GWENA_1.16.0.tgz PackageFileSize: 4.664 MiB