Package: GWENA Version: 1.16.0 Command: /Library/Frameworks/R.framework/Resources/bin/R CMD build --keep-empty-dirs --no-resave-data GWENA StartedAt: 2025-02-03 19:30:15 -0500 (Mon, 03 Feb 2025) EndedAt: 2025-02-03 19:33:43 -0500 (Mon, 03 Feb 2025) EllapsedTime: 208.4 seconds RetCode: 0 Status: OK PackageFile: GWENA_1.16.0.tar.gz PackageFileSize: 4.674 MiB