Package: GWENA Version: 1.16.0 Command: /home/biocbuild/R/R/bin/R CMD INSTALL GWENA StartedAt: 2025-02-03 21:04:07 -0000 (Mon, 03 Feb 2025) EndedAt: 2025-02-03 21:04:49 -0000 (Mon, 03 Feb 2025) EllapsedTime: 42.2 seconds RetCode: 0 Status: OK