Package: GateFinder Version: 1.26.0 Command: rm -rf GateFinder.buildbin-libdir && mkdir GateFinder.buildbin-libdir && /Users/biocbuild/BBS/utils/build-universal.sh GateFinder_1.26.0.tar.gz /Library/Frameworks/R.framework/Resources/bin/R GateFinder.buildbin-libdir StartedAt: 2025-02-04 12:58:38 -0500 (Tue, 04 Feb 2025) EndedAt: 2025-02-04 12:59:08 -0500 (Tue, 04 Feb 2025) EllapsedTime: 29.8 seconds RetCode: 0 Status: OK PackageFile: GateFinder_1.26.0.tgz PackageFileSize: 959.5 KiB