Package: GateFinder Version: 1.26.0 Command: /home/biocbuild/bbs-3.20-bioc/R/bin/R CMD check --install=check:GateFinder.install-out.txt --library=/home/biocbuild/bbs-3.20-bioc/R/site-library --timings GateFinder_1.26.0.tar.gz StartedAt: 2025-02-03 22:30:56 -0500 (Mon, 03 Feb 2025) EndedAt: 2025-02-03 22:32:06 -0500 (Mon, 03 Feb 2025) EllapsedTime: 70.1 seconds RetCode: 0 Status: WARNINGS CheckDir: GateFinder.Rcheck Warnings: 1