Package: GateFinder Version: 1.26.0 Command: F:\biocbuild\bbs-3.20-bioc\R\bin\R.exe CMD check --no-multiarch --install=check:GateFinder.install-out.txt --library=F:\biocbuild\bbs-3.20-bioc\R\library --no-vignettes --timings GateFinder_1.26.0.tar.gz StartedAt: 2025-02-04 01:59:38 -0500 (Tue, 04 Feb 2025) EndedAt: 2025-02-04 02:01:05 -0500 (Tue, 04 Feb 2025) EllapsedTime: 87.2 seconds RetCode: 0 Status: WARNINGS CheckDir: GateFinder.Rcheck Warnings: 1