Package: GateFinder Version: 1.26.0 Command: /home/biocbuild/R/R/bin/R CMD build --keep-empty-dirs --no-resave-data GateFinder StartedAt: 2025-02-03 23:43:16 -0000 (Mon, 03 Feb 2025) EndedAt: 2025-02-03 23:43:38 -0000 (Mon, 03 Feb 2025) EllapsedTime: 22.0 seconds RetCode: 0 Status: OK PackageFile: GateFinder_1.26.0.tar.gz PackageFileSize: 573.5 KiB