Package: GeDi Version: 1.2.0 Command: rm -rf GeDi.buildbin-libdir && mkdir GeDi.buildbin-libdir && /Users/biocbuild/BBS/utils/build-universal.sh GeDi_1.2.0.tar.gz /Library/Frameworks/R.framework/Resources/bin/R GeDi.buildbin-libdir StartedAt: 2025-02-01 15:01:22 -0500 (Sat, 01 Feb 2025) EndedAt: 2025-02-01 15:02:28 -0500 (Sat, 01 Feb 2025) EllapsedTime: 65.6 seconds RetCode: 0 Status: OK PackageFile: GeDi_1.2.0.tgz PackageFileSize: 2.774 MiB