Package: GeDi Version: 1.2.0 Command: /Library/Frameworks/R.framework/Resources/bin/R CMD build --keep-empty-dirs --no-resave-data GeDi StartedAt: 2025-01-31 00:05:32 -0500 (Fri, 31 Jan 2025) EndedAt: 2025-01-31 00:08:52 -0500 (Fri, 31 Jan 2025) EllapsedTime: 200.2 seconds RetCode: 0 Status: OK PackageFile: GeDi_1.2.0.tar.gz PackageFileSize: 3.413 MiB