Package: GeDi Version: 1.2.0 Command: /Library/Frameworks/R.framework/Resources/bin/R CMD check --install=check:GeDi.install-out.txt --library=/Library/Frameworks/R.framework/Resources/library --no-vignettes --timings GeDi_1.2.0.tar.gz StartedAt: 2025-01-31 20:01:21 -0500 (Fri, 31 Jan 2025) EndedAt: 2025-01-31 20:14:53 -0500 (Fri, 31 Jan 2025) EllapsedTime: 811.6 seconds RetCode: 0 Status: OK CheckDir: GeDi.Rcheck Warnings: 0