Package: GeDi Version: 1.2.0 Command: rm -rf GeDi.buildbin-libdir && mkdir GeDi.buildbin-libdir && /Users/biocbuild/BBS/utils/build-universal.sh GeDi_1.2.0.tar.gz /Library/Frameworks/R.framework/Resources/bin/R GeDi.buildbin-libdir StartedAt: 2025-01-31 12:50:48 -0500 (Fri, 31 Jan 2025) EndedAt: 2025-01-31 12:52:38 -0500 (Fri, 31 Jan 2025) EllapsedTime: 110.0 seconds RetCode: 0 Status: OK PackageFile: GeDi_1.2.0.tgz PackageFileSize: 2.774 MiB