Package: GeDi Version: 1.2.0 Command: /home/biocbuild/R/R/bin/R CMD build --keep-empty-dirs --no-resave-data GeDi StartedAt: 2025-01-30 23:45:20 -0000 (Thu, 30 Jan 2025) EndedAt: 2025-01-30 23:49:06 -0000 (Thu, 30 Jan 2025) EllapsedTime: 226.1 seconds RetCode: 0 Status: OK PackageFile: GeDi_1.2.0.tar.gz PackageFileSize: 3.476 MiB