Package: GeDi Version: 1.2.0 Command: /home/biocbuild/R/R/bin/R CMD check --install=check:GeDi.install-out.txt --library=/home/biocbuild/R/R/site-library --no-vignettes --timings GeDi_1.2.0.tar.gz StartedAt: 2025-01-31 06:27:19 -0000 (Fri, 31 Jan 2025) EndedAt: 2025-01-31 06:47:11 -0000 (Fri, 31 Jan 2025) EllapsedTime: 1191.9 seconds RetCode: 1 Status: ERROR CheckDir: GeDi.Rcheck Warnings: NA