Package: GeneBreak Version: 1.36.0 Command: /Library/Frameworks/R.framework/Resources/bin/R CMD build --keep-empty-dirs --no-resave-data GeneBreak StartedAt: 2025-02-04 00:03:43 -0500 (Tue, 04 Feb 2025) EndedAt: 2025-02-04 00:04:21 -0500 (Tue, 04 Feb 2025) EllapsedTime: 38.7 seconds RetCode: 0 Status: OK PackageFile: GeneBreak_1.36.0.tar.gz PackageFileSize: 4.274 MiB