Package: GeneBreak Version: 1.36.0 Command: chmod a+r GeneBreak -R && F:\biocbuild\bbs-3.20-bioc\R\bin\R.exe CMD build --keep-empty-dirs --no-resave-data GeneBreak StartedAt: 2025-02-03 19:21:03 -0500 (Mon, 03 Feb 2025) EndedAt: 2025-02-03 19:21:57 -0500 (Mon, 03 Feb 2025) EllapsedTime: 53.9 seconds RetCode: 0 Status: OK PackageFile: GeneBreak_1.36.0.tar.gz PackageFileSize: 4.142 MiB