Package: GeneBreak Version: 1.36.0 Command: F:\biocbuild\bbs-3.20-bioc\R\bin\R.exe CMD INSTALL GeneBreak StartedAt: 2025-02-03 16:01:02 -0500 (Mon, 03 Feb 2025) EndedAt: 2025-02-03 16:01:52 -0500 (Mon, 03 Feb 2025) EllapsedTime: 49.9 seconds RetCode: 0 Status: OK