Package: GeneBreak Version: 1.36.0 Command: /home/biocbuild/R/R/bin/R CMD build --keep-empty-dirs --no-resave-data GeneBreak StartedAt: 2025-02-03 23:46:17 -0000 (Mon, 03 Feb 2025) EndedAt: 2025-02-03 23:46:56 -0000 (Mon, 03 Feb 2025) EllapsedTime: 39.0 seconds RetCode: 0 Status: OK PackageFile: GeneBreak_1.36.0.tar.gz PackageFileSize: 4.266 MiB