Package: GeneBreak Version: 1.36.0 Command: /home/biocbuild/R/R/bin/R CMD check --install=check:GeneBreak.install-out.txt --library=/home/biocbuild/R/R/site-library --no-vignettes --timings GeneBreak_1.36.0.tar.gz StartedAt: 2025-02-04 07:14:15 -0000 (Tue, 04 Feb 2025) EndedAt: 2025-02-04 07:17:15 -0000 (Tue, 04 Feb 2025) EllapsedTime: 180.2 seconds RetCode: 0 Status: OK CheckDir: GeneBreak.Rcheck Warnings: 0