Package: GeneExpressionSignature Version: 1.52.0 Command: /Library/Frameworks/R.framework/Resources/bin/R CMD check --install=check:GeneExpressionSignature.install-out.txt --library=/Library/Frameworks/R.framework/Resources/library --no-vignettes --timings GeneExpressionSignature_1.52.0.tar.gz StartedAt: 2025-02-04 20:35:28 -0500 (Tue, 04 Feb 2025) EndedAt: 2025-02-04 20:36:23 -0500 (Tue, 04 Feb 2025) EllapsedTime: 55.0 seconds RetCode: 0 Status: OK CheckDir: GeneExpressionSignature.Rcheck Warnings: 0