Package: GeneExpressionSignature Version: 1.52.0 Command: rm -rf GeneExpressionSignature.buildbin-libdir && mkdir GeneExpressionSignature.buildbin-libdir && /Users/biocbuild/BBS/utils/build-universal.sh GeneExpressionSignature_1.52.0.tar.gz /Library/Frameworks/R.framework/Resources/bin/R GeneExpressionSignature.buildbin-libdir StartedAt: 2025-02-04 12:59:59 -0500 (Tue, 04 Feb 2025) EndedAt: 2025-02-04 13:00:09 -0500 (Tue, 04 Feb 2025) EllapsedTime: 10.0 seconds RetCode: 0 Status: OK PackageFile: GeneExpressionSignature_1.52.0.tgz PackageFileSize: 2.526 MiB