Package: GeneExpressionSignature Version: 1.52.0 Command: /Library/Frameworks/R.framework/Resources/bin/R CMD build --keep-empty-dirs --no-resave-data GeneExpressionSignature StartedAt: 2025-02-03 19:06:28 -0500 (Mon, 03 Feb 2025) EndedAt: 2025-02-03 19:07:20 -0500 (Mon, 03 Feb 2025) EllapsedTime: 52.1 seconds RetCode: 0 Status: OK PackageFile: GeneExpressionSignature_1.52.0.tar.gz PackageFileSize: 2.545 MiB