Package: GeneExpressionSignature Version: 1.52.0 Command: /Library/Frameworks/R.framework/Resources/bin/R CMD INSTALL GeneExpressionSignature StartedAt: 2025-02-17 15:07:14 -0500 (Mon, 17 Feb 2025) EndedAt: 2025-02-17 15:07:25 -0500 (Mon, 17 Feb 2025) EllapsedTime: 11.8 seconds RetCode: 0 Status: OK