Package: GeneExpressionSignature Version: 1.52.0 Command: rm -rf GeneExpressionSignature.buildbin-libdir && mkdir GeneExpressionSignature.buildbin-libdir && F:\biocbuild\bbs-3.20-bioc\R\bin\R.exe CMD INSTALL --build --library=GeneExpressionSignature.buildbin-libdir GeneExpressionSignature_1.52.0.tar.gz StartedAt: 2025-02-04 08:33:12 -0500 (Tue, 04 Feb 2025) EndedAt: 2025-02-04 08:35:47 -0500 (Tue, 04 Feb 2025) EllapsedTime: 155.6 seconds RetCode: 0 Status: OK PackageFile: GeneExpressionSignature_1.52.0.zip PackageFileSize: 2.53 MiB