Package: GeneExpressionSignature Version: 1.52.0 Command: /home/biocbuild/R/R/bin/R CMD INSTALL GeneExpressionSignature StartedAt: 2025-02-03 20:25:44 -0000 (Mon, 03 Feb 2025) EndedAt: 2025-02-03 20:25:56 -0000 (Mon, 03 Feb 2025) EllapsedTime: 11.6 seconds RetCode: 0 Status: OK