Package: GeneExpressionSignature
Version: 1.52.0
Command: /home/biocbuild/bbs-3.20-bioc/R/bin/R CMD build --keep-empty-dirs --no-resave-data GeneExpressionSignature
StartedAt: 2024-11-19 19:04:17 -0500 (Tue, 19 Nov 2024)
EndedAt: 2024-11-19 19:04:45 -0500 (Tue, 19 Nov 2024)
EllapsedTime: 27.6 seconds
RetCode: 0
Status: OK
PackageFile: GeneExpressionSignature_1.52.0.tar.gz
PackageFileSize: 2.545 <A href="http://en.wikipedia.org/wiki/MiB" target="_blank">MiB</A>