Package: GeneGA Version: 1.56.0 Command: /Library/Frameworks/R.framework/Resources/bin/R CMD build --keep-empty-dirs --no-resave-data GeneGA StartedAt: 2025-02-04 00:04:57 -0500 (Tue, 04 Feb 2025) EndedAt: 2025-02-04 00:06:40 -0500 (Tue, 04 Feb 2025) EllapsedTime: 103.1 seconds RetCode: 0 Status: OK PackageFile: GeneGA_1.56.0.tar.gz PackageFileSize: 227.1 KiB