Package: GeneGA Version: 1.56.0 Command: /Library/Frameworks/R.framework/Resources/bin/R CMD check --install=check:GeneGA.install-out.txt --library=/Library/Frameworks/R.framework/Resources/library --no-vignettes --timings GeneGA_1.56.0.tar.gz StartedAt: 2025-02-04 20:38:31 -0500 (Tue, 04 Feb 2025) EndedAt: 2025-02-04 20:41:54 -0500 (Tue, 04 Feb 2025) EllapsedTime: 203.2 seconds RetCode: 0 Status: OK CheckDir: GeneGA.Rcheck Warnings: 0