Package: GeneGA Version: 1.56.0 Command: rm -rf GeneGA.buildbin-libdir && mkdir GeneGA.buildbin-libdir && /Users/biocbuild/BBS/utils/build-universal.sh GeneGA_1.56.0.tar.gz /Library/Frameworks/R.framework/Resources/bin/R GeneGA.buildbin-libdir StartedAt: 2025-01-31 12:51:21 -0500 (Fri, 31 Jan 2025) EndedAt: 2025-01-31 12:51:31 -0500 (Fri, 31 Jan 2025) EllapsedTime: 10.7 seconds RetCode: 0 Status: OK PackageFile: GeneGA_1.56.0.tgz PackageFileSize: 396.7 KiB